BEGIN:VCALENDAR
VERSION:2.0
PRODID:-//First Presbyterian Church - ECPv6.15.20//NONSGML v1.0//EN
CALSCALE:GREGORIAN
METHOD:PUBLISH
X-WR-CALNAME:First Presbyterian Church
X-ORIGINAL-URL:https://fpcjackson.org
X-WR-CALDESC:Events for First Presbyterian Church
REFRESH-INTERVAL;VALUE=DURATION:PT1H
X-Robots-Tag:noindex
X-PUBLISHED-TTL:PT1H
BEGIN:VTIMEZONE
TZID:America/Chicago
BEGIN:DAYLIGHT
TZOFFSETFROM:-0600
TZOFFSETTO:-0500
TZNAME:CDT
DTSTART:20250309T080000
END:DAYLIGHT
BEGIN:STANDARD
TZOFFSETFROM:-0500
TZOFFSETTO:-0600
TZNAME:CST
DTSTART:20251102T070000
END:STANDARD
BEGIN:DAYLIGHT
TZOFFSETFROM:-0600
TZOFFSETTO:-0500
TZNAME:CDT
DTSTART:20260308T080000
END:DAYLIGHT
BEGIN:STANDARD
TZOFFSETFROM:-0500
TZOFFSETTO:-0600
TZNAME:CST
DTSTART:20261101T070000
END:STANDARD
BEGIN:DAYLIGHT
TZOFFSETFROM:-0600
TZOFFSETTO:-0500
TZNAME:CDT
DTSTART:20270314T080000
END:DAYLIGHT
BEGIN:STANDARD
TZOFFSETFROM:-0500
TZOFFSETTO:-0600
TZNAME:CST
DTSTART:20271107T070000
END:STANDARD
END:VTIMEZONE
BEGIN:VEVENT
DTSTART;TZID=America/Chicago:20260201T094500
DTEND;TZID=America/Chicago:20260201T105000
DTSTAMP:20260423T051715
CREATED:20230607T195344Z
LAST-MODIFIED:20260306T155904Z
UID:10002885-1769939100-1769943000@fpcjackson.org
SUMMARY:Special Friends Sunday School
DESCRIPTION:
URL:https://fpcjackson.org/event/special-friends-sunday-school/2026-02-01/
LOCATION:M120 (Main Building)\, 1390 North State Street\, Jackson\, MS\, 39202\, United States
CATEGORIES:Children,Sunday School
END:VEVENT
BEGIN:VEVENT
DTSTART;TZID=America/Chicago:20260201T110000
DTEND;TZID=America/Chicago:20260201T120000
DTSTAMP:20260423T051715
CREATED:20250827T193631Z
LAST-MODIFIED:20251218T220806Z
UID:10018315-1769943600-1769947200@fpcjackson.org
SUMMARY:Children's Churchtime
DESCRIPTION:Sundays offer many opportunities for our children to grow in their faith. In addition to Sunday School\, on Sunday mornings in Children’s Churchtime they learn the Bible and how to worship. Children’s Churchtime is for ages 3 & 4 and is held during the 11 a.m. service September-May in room 135 (Threes Sunday School class). Questions? Email kimberlyw@fpcjackson.org or mikaylan@fpcjackson.org.
URL:https://fpcjackson.org/event/childrens-churchtime-4/2026-02-01/
LOCATION:FPC Jackson Campus\, 1390 North State Street\, Jackson\, MS\, 39202\, United States
CATEGORIES:Children
ATTACH;FMTTYPE=image/png:https://fpcjackson.org/wp-content/uploads/2025/08/Childrens-Churchtime-scaled.png
END:VEVENT
BEGIN:VEVENT
DTSTART;TZID=America/Chicago:20260201T180000
DTEND;TZID=America/Chicago:20260201T190000
DTSTAMP:20260423T051715
CREATED:20230608T165824Z
LAST-MODIFIED:20260417T164622Z
UID:10003540-1769968800-1769972400@fpcjackson.org
SUMMARY:Catechism Crew
DESCRIPTION:Sunday Night Classes for Kids \nFirst through Third grades \nDismissed from the Evening Worship Service
URL:https://fpcjackson.org/event/catechism-crew/2026-02-01/
LOCATION:FPC Jackson Campus\, 1390 North State Street\, Jackson\, MS\, 39202\, United States
CATEGORIES:Children
ATTACH;FMTTYPE=image/png:https://fpcjackson.org/wp-content/uploads/2023/06/Catechism-Crew-Logo.png
END:VEVENT
BEGIN:VEVENT
DTSTART;TZID=America/Chicago:20260201T180000
DTEND;TZID=America/Chicago:20260201T190000
DTSTAMP:20260423T051715
CREATED:20230608T170051Z
LAST-MODIFIED:20260417T164712Z
UID:10003803-1769968800-1769972400@fpcjackson.org
SUMMARY:Covenant Kids
DESCRIPTION:Sunday Night Classes for Kids \nAge 4 and 5 \nDismissed from the Evening Worship Service
URL:https://fpcjackson.org/event/covenant-kids/2026-02-01/
LOCATION:FPC Jackson Campus\, 1390 North State Street\, Jackson\, MS\, 39202\, United States
CATEGORIES:Children
ATTACH;FMTTYPE=image/png:https://fpcjackson.org/wp-content/uploads/2023/06/Covenant-Kids-Logo.png
END:VEVENT
BEGIN:VEVENT
DTSTART;TZID=America/Chicago:20260204T180000
DTEND;TZID=America/Chicago:20260204T190000
DTSTAMP:20260423T051715
CREATED:20260109T191934Z
LAST-MODIFIED:20260220T191125Z
UID:10020417-1770228000-1770231600@fpcjackson.org
SUMMARY:Children's Choir
DESCRIPTION:Read more on our midweek page: fpcj.ms/midweek.
URL:https://fpcjackson.org/event/childrens-choir-2-2/2026-02-04/
LOCATION:FPC Jackson Campus\, 1390 North State Street\, Jackson\, MS\, 39202\, United States
CATEGORIES:Children,Midweek
END:VEVENT
BEGIN:VEVENT
DTSTART;TZID=America/Chicago:20260208T094500
DTEND;TZID=America/Chicago:20260208T105000
DTSTAMP:20260423T051715
CREATED:20230607T195344Z
LAST-MODIFIED:20260306T155904Z
UID:10002886-1770543900-1770547800@fpcjackson.org
SUMMARY:Special Friends Sunday School
DESCRIPTION:
URL:https://fpcjackson.org/event/special-friends-sunday-school/2026-02-08/
LOCATION:M120 (Main Building)\, 1390 North State Street\, Jackson\, MS\, 39202\, United States
CATEGORIES:Children,Sunday School
END:VEVENT
BEGIN:VEVENT
DTSTART;TZID=America/Chicago:20260208T110000
DTEND;TZID=America/Chicago:20260208T120000
DTSTAMP:20260423T051715
CREATED:20250827T193631Z
LAST-MODIFIED:20251218T220806Z
UID:10018316-1770548400-1770552000@fpcjackson.org
SUMMARY:Children's Churchtime
DESCRIPTION:Sundays offer many opportunities for our children to grow in their faith. In addition to Sunday School\, on Sunday mornings in Children’s Churchtime they learn the Bible and how to worship. Children’s Churchtime is for ages 3 & 4 and is held during the 11 a.m. service September-May in room 135 (Threes Sunday School class). Questions? Email kimberlyw@fpcjackson.org or mikaylan@fpcjackson.org.
URL:https://fpcjackson.org/event/childrens-churchtime-4/2026-02-08/
LOCATION:FPC Jackson Campus\, 1390 North State Street\, Jackson\, MS\, 39202\, United States
CATEGORIES:Children
ATTACH;FMTTYPE=image/png:https://fpcjackson.org/wp-content/uploads/2025/08/Childrens-Churchtime-scaled.png
END:VEVENT
BEGIN:VEVENT
DTSTART;TZID=America/Chicago:20260208T164500
DTEND;TZID=America/Chicago:20260208T174500
DTSTAMP:20260423T051715
CREATED:20260109T182727Z
LAST-MODIFIED:20260123T183305Z
UID:10020010-1770569100-1770572700@fpcjackson.org
SUMMARY:Communicant Class
DESCRIPTION:Parents\, our class for children who are considering becoming communing members of our church begins Sunday\, January 25 at 4:45 p.m. in Miller Hall\, with a fellowship meal following each class. If your child is planning to attend and you have not registered\, please contact Kimberly Wilkins at kimberlyw@fpcjackson.org or 601-353-8316. \nThe Communicant Class is for students in 6th\, 7th\, and 8th grades who are interested in learning more about church membership and the Christian faith. Taught by a pastor\, the class walks through the five questions of church membership and helps students think carefully about faith\, discipleship\, and life in the church. All middle school students are encouraged to attend whether or not they intend to pursue membership at this time. Nursery and childcare are available upon request for younger siblings.
URL:https://fpcjackson.org/event/communicant-class/2026-02-08/
LOCATION:Miller Hall\, 1390 North State Street\, Jackson\, MS\, 39202\, United States
CATEGORIES:Children,New Members
ATTACH;FMTTYPE=image/png:https://fpcjackson.org/wp-content/uploads/2023/06/Communicant-Class-General-App-e1769193173395.png
END:VEVENT
BEGIN:VEVENT
DTSTART;TZID=America/Chicago:20260208T180000
DTEND;TZID=America/Chicago:20260208T190000
DTSTAMP:20260423T051715
CREATED:20230608T165824Z
LAST-MODIFIED:20260417T164622Z
UID:10003541-1770573600-1770577200@fpcjackson.org
SUMMARY:Catechism Crew
DESCRIPTION:Sunday Night Classes for Kids \nFirst through Third grades \nDismissed from the Evening Worship Service
URL:https://fpcjackson.org/event/catechism-crew/2026-02-08/
LOCATION:FPC Jackson Campus\, 1390 North State Street\, Jackson\, MS\, 39202\, United States
CATEGORIES:Children
ATTACH;FMTTYPE=image/png:https://fpcjackson.org/wp-content/uploads/2023/06/Catechism-Crew-Logo.png
END:VEVENT
BEGIN:VEVENT
DTSTART;TZID=America/Chicago:20260208T180000
DTEND;TZID=America/Chicago:20260208T190000
DTSTAMP:20260423T051715
CREATED:20230608T170051Z
LAST-MODIFIED:20260417T164712Z
UID:10003804-1770573600-1770577200@fpcjackson.org
SUMMARY:Covenant Kids
DESCRIPTION:Sunday Night Classes for Kids \nAge 4 and 5 \nDismissed from the Evening Worship Service
URL:https://fpcjackson.org/event/covenant-kids/2026-02-08/
LOCATION:FPC Jackson Campus\, 1390 North State Street\, Jackson\, MS\, 39202\, United States
CATEGORIES:Children
ATTACH;FMTTYPE=image/png:https://fpcjackson.org/wp-content/uploads/2023/06/Covenant-Kids-Logo.png
END:VEVENT
BEGIN:VEVENT
DTSTART;TZID=America/Chicago:20260211T180000
DTEND;TZID=America/Chicago:20260211T190000
DTSTAMP:20260423T051715
CREATED:20260109T191934Z
LAST-MODIFIED:20260220T191125Z
UID:10020418-1770832800-1770836400@fpcjackson.org
SUMMARY:Children's Choir
DESCRIPTION:Read more on our midweek page: fpcj.ms/midweek.
URL:https://fpcjackson.org/event/childrens-choir-2-2/2026-02-11/
LOCATION:FPC Jackson Campus\, 1390 North State Street\, Jackson\, MS\, 39202\, United States
CATEGORIES:Children,Midweek
END:VEVENT
BEGIN:VEVENT
DTSTART;TZID=America/Chicago:20260215T094500
DTEND;TZID=America/Chicago:20260215T105000
DTSTAMP:20260423T051715
CREATED:20230607T195344Z
LAST-MODIFIED:20260306T155904Z
UID:10002887-1771148700-1771152600@fpcjackson.org
SUMMARY:Special Friends Sunday School
DESCRIPTION:
URL:https://fpcjackson.org/event/special-friends-sunday-school/2026-02-15/
LOCATION:M120 (Main Building)\, 1390 North State Street\, Jackson\, MS\, 39202\, United States
CATEGORIES:Children,Sunday School
END:VEVENT
BEGIN:VEVENT
DTSTART;TZID=America/Chicago:20260215T110000
DTEND;TZID=America/Chicago:20260215T120000
DTSTAMP:20260423T051715
CREATED:20250827T193631Z
LAST-MODIFIED:20251218T220806Z
UID:10018317-1771153200-1771156800@fpcjackson.org
SUMMARY:Children's Churchtime
DESCRIPTION:Sundays offer many opportunities for our children to grow in their faith. In addition to Sunday School\, on Sunday mornings in Children’s Churchtime they learn the Bible and how to worship. Children’s Churchtime is for ages 3 & 4 and is held during the 11 a.m. service September-May in room 135 (Threes Sunday School class). Questions? Email kimberlyw@fpcjackson.org or mikaylan@fpcjackson.org.
URL:https://fpcjackson.org/event/childrens-churchtime-4/2026-02-15/
LOCATION:FPC Jackson Campus\, 1390 North State Street\, Jackson\, MS\, 39202\, United States
CATEGORIES:Children
ATTACH;FMTTYPE=image/png:https://fpcjackson.org/wp-content/uploads/2025/08/Childrens-Churchtime-scaled.png
END:VEVENT
BEGIN:VEVENT
DTSTART;TZID=America/Chicago:20260215T164500
DTEND;TZID=America/Chicago:20260215T174500
DTSTAMP:20260423T051715
CREATED:20260109T182727Z
LAST-MODIFIED:20260123T183305Z
UID:10020011-1771173900-1771177500@fpcjackson.org
SUMMARY:Communicant Class
DESCRIPTION:Parents\, our class for children who are considering becoming communing members of our church begins Sunday\, January 25 at 4:45 p.m. in Miller Hall\, with a fellowship meal following each class. If your child is planning to attend and you have not registered\, please contact Kimberly Wilkins at kimberlyw@fpcjackson.org or 601-353-8316. \nThe Communicant Class is for students in 6th\, 7th\, and 8th grades who are interested in learning more about church membership and the Christian faith. Taught by a pastor\, the class walks through the five questions of church membership and helps students think carefully about faith\, discipleship\, and life in the church. All middle school students are encouraged to attend whether or not they intend to pursue membership at this time. Nursery and childcare are available upon request for younger siblings.
URL:https://fpcjackson.org/event/communicant-class/2026-02-15/
LOCATION:Miller Hall\, 1390 North State Street\, Jackson\, MS\, 39202\, United States
CATEGORIES:Children,New Members
ATTACH;FMTTYPE=image/png:https://fpcjackson.org/wp-content/uploads/2023/06/Communicant-Class-General-App-e1769193173395.png
END:VEVENT
BEGIN:VEVENT
DTSTART;TZID=America/Chicago:20260215T180000
DTEND;TZID=America/Chicago:20260215T190000
DTSTAMP:20260423T051715
CREATED:20230608T165824Z
LAST-MODIFIED:20260417T164622Z
UID:10003542-1771178400-1771182000@fpcjackson.org
SUMMARY:Catechism Crew
DESCRIPTION:Sunday Night Classes for Kids \nFirst through Third grades \nDismissed from the Evening Worship Service
URL:https://fpcjackson.org/event/catechism-crew/2026-02-15/
LOCATION:FPC Jackson Campus\, 1390 North State Street\, Jackson\, MS\, 39202\, United States
CATEGORIES:Children
ATTACH;FMTTYPE=image/png:https://fpcjackson.org/wp-content/uploads/2023/06/Catechism-Crew-Logo.png
END:VEVENT
BEGIN:VEVENT
DTSTART;TZID=America/Chicago:20260215T180000
DTEND;TZID=America/Chicago:20260215T190000
DTSTAMP:20260423T051715
CREATED:20230608T170051Z
LAST-MODIFIED:20260417T164712Z
UID:10003805-1771178400-1771182000@fpcjackson.org
SUMMARY:Covenant Kids
DESCRIPTION:Sunday Night Classes for Kids \nAge 4 and 5 \nDismissed from the Evening Worship Service
URL:https://fpcjackson.org/event/covenant-kids/2026-02-15/
LOCATION:FPC Jackson Campus\, 1390 North State Street\, Jackson\, MS\, 39202\, United States
CATEGORIES:Children
ATTACH;FMTTYPE=image/png:https://fpcjackson.org/wp-content/uploads/2023/06/Covenant-Kids-Logo.png
END:VEVENT
BEGIN:VEVENT
DTSTART;TZID=America/Chicago:20260218T180000
DTEND;TZID=America/Chicago:20260218T190000
DTSTAMP:20260423T051715
CREATED:20260109T191934Z
LAST-MODIFIED:20260220T191125Z
UID:10020419-1771437600-1771441200@fpcjackson.org
SUMMARY:Children's Choir
DESCRIPTION:Read more on our midweek page: fpcj.ms/midweek.
URL:https://fpcjackson.org/event/childrens-choir-2-2/2026-02-18/
LOCATION:FPC Jackson Campus\, 1390 North State Street\, Jackson\, MS\, 39202\, United States
CATEGORIES:Children,Midweek
END:VEVENT
BEGIN:VEVENT
DTSTART;TZID=America/Chicago:20260222T094500
DTEND;TZID=America/Chicago:20260222T105000
DTSTAMP:20260423T051715
CREATED:20230607T195344Z
LAST-MODIFIED:20260306T155904Z
UID:10002888-1771753500-1771757400@fpcjackson.org
SUMMARY:Special Friends Sunday School
DESCRIPTION:
URL:https://fpcjackson.org/event/special-friends-sunday-school/2026-02-22/
LOCATION:M120 (Main Building)\, 1390 North State Street\, Jackson\, MS\, 39202\, United States
CATEGORIES:Children,Sunday School
END:VEVENT
BEGIN:VEVENT
DTSTART;TZID=America/Chicago:20260222T110000
DTEND;TZID=America/Chicago:20260222T120000
DTSTAMP:20260423T051715
CREATED:20250827T193631Z
LAST-MODIFIED:20251218T220806Z
UID:10018318-1771758000-1771761600@fpcjackson.org
SUMMARY:Children's Churchtime
DESCRIPTION:Sundays offer many opportunities for our children to grow in their faith. In addition to Sunday School\, on Sunday mornings in Children’s Churchtime they learn the Bible and how to worship. Children’s Churchtime is for ages 3 & 4 and is held during the 11 a.m. service September-May in room 135 (Threes Sunday School class). Questions? Email kimberlyw@fpcjackson.org or mikaylan@fpcjackson.org.
URL:https://fpcjackson.org/event/childrens-churchtime-4/2026-02-22/
LOCATION:FPC Jackson Campus\, 1390 North State Street\, Jackson\, MS\, 39202\, United States
CATEGORIES:Children
ATTACH;FMTTYPE=image/png:https://fpcjackson.org/wp-content/uploads/2025/08/Childrens-Churchtime-scaled.png
END:VEVENT
BEGIN:VEVENT
DTSTART;TZID=America/Chicago:20260222T164500
DTEND;TZID=America/Chicago:20260222T174500
DTSTAMP:20260423T051715
CREATED:20260109T182727Z
LAST-MODIFIED:20260123T183305Z
UID:10020012-1771778700-1771782300@fpcjackson.org
SUMMARY:Communicant Class
DESCRIPTION:Parents\, our class for children who are considering becoming communing members of our church begins Sunday\, January 25 at 4:45 p.m. in Miller Hall\, with a fellowship meal following each class. If your child is planning to attend and you have not registered\, please contact Kimberly Wilkins at kimberlyw@fpcjackson.org or 601-353-8316. \nThe Communicant Class is for students in 6th\, 7th\, and 8th grades who are interested in learning more about church membership and the Christian faith. Taught by a pastor\, the class walks through the five questions of church membership and helps students think carefully about faith\, discipleship\, and life in the church. All middle school students are encouraged to attend whether or not they intend to pursue membership at this time. Nursery and childcare are available upon request for younger siblings.
URL:https://fpcjackson.org/event/communicant-class/2026-02-22/
LOCATION:Miller Hall\, 1390 North State Street\, Jackson\, MS\, 39202\, United States
CATEGORIES:Children,New Members
ATTACH;FMTTYPE=image/png:https://fpcjackson.org/wp-content/uploads/2023/06/Communicant-Class-General-App-e1769193173395.png
END:VEVENT
BEGIN:VEVENT
DTSTART;TZID=America/Chicago:20260222T180000
DTEND;TZID=America/Chicago:20260222T190000
DTSTAMP:20260423T051715
CREATED:20230608T165824Z
LAST-MODIFIED:20260417T164622Z
UID:10003543-1771783200-1771786800@fpcjackson.org
SUMMARY:Catechism Crew
DESCRIPTION:Sunday Night Classes for Kids \nFirst through Third grades \nDismissed from the Evening Worship Service
URL:https://fpcjackson.org/event/catechism-crew/2026-02-22/
LOCATION:FPC Jackson Campus\, 1390 North State Street\, Jackson\, MS\, 39202\, United States
CATEGORIES:Children
ATTACH;FMTTYPE=image/png:https://fpcjackson.org/wp-content/uploads/2023/06/Catechism-Crew-Logo.png
END:VEVENT
BEGIN:VEVENT
DTSTART;TZID=America/Chicago:20260222T180000
DTEND;TZID=America/Chicago:20260222T190000
DTSTAMP:20260423T051715
CREATED:20230608T170051Z
LAST-MODIFIED:20260417T164712Z
UID:10003806-1771783200-1771786800@fpcjackson.org
SUMMARY:Covenant Kids
DESCRIPTION:Sunday Night Classes for Kids \nAge 4 and 5 \nDismissed from the Evening Worship Service
URL:https://fpcjackson.org/event/covenant-kids/2026-02-22/
LOCATION:FPC Jackson Campus\, 1390 North State Street\, Jackson\, MS\, 39202\, United States
CATEGORIES:Children
ATTACH;FMTTYPE=image/png:https://fpcjackson.org/wp-content/uploads/2023/06/Covenant-Kids-Logo.png
END:VEVENT
BEGIN:VEVENT
DTSTART;TZID=America/Chicago:20260225T180000
DTEND;TZID=America/Chicago:20260225T190000
DTSTAMP:20260423T051715
CREATED:20260109T191934Z
LAST-MODIFIED:20260220T191125Z
UID:10020420-1772042400-1772046000@fpcjackson.org
SUMMARY:Children's Choir
DESCRIPTION:Read more on our midweek page: fpcj.ms/midweek.
URL:https://fpcjackson.org/event/childrens-choir-2-2/2026-02-25/
LOCATION:FPC Jackson Campus\, 1390 North State Street\, Jackson\, MS\, 39202\, United States
CATEGORIES:Children,Midweek
END:VEVENT
BEGIN:VEVENT
DTSTART;TZID=America/Chicago:20260226T180000
DTEND;TZID=America/Chicago:20260226T193000
DTSTAMP:20260423T051715
CREATED:20260204T195613Z
LAST-MODIFIED:20260204T195614Z
UID:10020434-1772128800-1772134200@fpcjackson.org
SUMMARY:Children's Missions Event
DESCRIPTION:6-7:30 p.m. in the Baird Center Gym\nPizza Dinner\, Crafts\, Games\, and a Missions Focus\nwith Thomas and Erna Dreyer
URL:https://fpcjackson.org/event/childrens-missions-event/
LOCATION:Baird Center Gym\, 1390 North State Street\, Jackson\, MS\, 39202\, United States
CATEGORIES:Children,Mission and Outreach
ATTACH;FMTTYPE=image/png:https://fpcjackson.org/wp-content/uploads/2026/02/Missions-Conference-Children-2026.png
END:VEVENT
END:VCALENDAR