BEGIN:VCALENDAR
VERSION:2.0
PRODID:-//First Presbyterian Church - ECPv6.15.20//NONSGML v1.0//EN
CALSCALE:GREGORIAN
METHOD:PUBLISH
X-WR-CALNAME:First Presbyterian Church
X-ORIGINAL-URL:https://fpcjackson.org
X-WR-CALDESC:Events for First Presbyterian Church
REFRESH-INTERVAL;VALUE=DURATION:PT1H
X-Robots-Tag:noindex
X-PUBLISHED-TTL:PT1H
BEGIN:VTIMEZONE
TZID:America/Chicago
BEGIN:DAYLIGHT
TZOFFSETFROM:-0600
TZOFFSETTO:-0500
TZNAME:CDT
DTSTART:20250309T080000
END:DAYLIGHT
BEGIN:STANDARD
TZOFFSETFROM:-0500
TZOFFSETTO:-0600
TZNAME:CST
DTSTART:20251102T070000
END:STANDARD
BEGIN:DAYLIGHT
TZOFFSETFROM:-0600
TZOFFSETTO:-0500
TZNAME:CDT
DTSTART:20260308T080000
END:DAYLIGHT
BEGIN:STANDARD
TZOFFSETFROM:-0500
TZOFFSETTO:-0600
TZNAME:CST
DTSTART:20261101T070000
END:STANDARD
BEGIN:DAYLIGHT
TZOFFSETFROM:-0600
TZOFFSETTO:-0500
TZNAME:CDT
DTSTART:20270314T080000
END:DAYLIGHT
BEGIN:STANDARD
TZOFFSETFROM:-0500
TZOFFSETTO:-0600
TZNAME:CST
DTSTART:20271107T070000
END:STANDARD
END:VTIMEZONE
BEGIN:VEVENT
DTSTART;TZID=America/Chicago:20260324T063000
DTEND;TZID=America/Chicago:20260324T073000
DTSTAMP:20260422T044403
CREATED:20260128T171438Z
LAST-MODIFIED:20260227T203317Z
UID:10020352-1774333800-1774337400@fpcjackson.org
SUMMARY:Men's Breakfast Series
DESCRIPTION:Men\, our Breakfast Series is back on Tuesdays at 6:30 a.m. This semester our topic is Hosea: God’s Casual Lovers. Hosea tells an unsettling love story of a holy husband who refuses to give up on his fickle bride. In this men’s Bible study\, led by Rupert Hunt Taylor\, we’ll face the scandal of God’s relentless love for His faithless church—and see ourselves in Israel’s wandering hearts.  \nBeginning February 10\, come wrestle with a God whose love disciplines\, pursues\, and brings rebellious sons home. Register below to let us know you’re coming and to pay for breakfast.
URL:https://fpcjackson.org/event/mens-breakfast-series-2/2026-03-24/
LOCATION:Miller Hall\, 1390 North State Street\, Jackson\, MS\, 39202\, United States
CATEGORIES:Bible Study,Men
ATTACH;FMTTYPE=image/png:https://fpcjackson.org/wp-content/uploads/2026/01/Mens-Tuesday-Breakfast-Hosea.png
END:VEVENT
BEGIN:VEVENT
DTSTART;TZID=America/Chicago:20260325T180000
DTEND;TZID=America/Chicago:20260325T190000
DTSTAMP:20260422T044403
CREATED:20241204T213629Z
LAST-MODIFIED:20260306T160529Z
UID:10002071-1774461600-1774465200@fpcjackson.org
SUMMARY:Midweek Adult Programs
DESCRIPTION:
URL:https://fpcjackson.org/event/midweek-adult-programs-2/2026-03-25/
LOCATION:Various\, 1390 North State Street\, Jackson\, MS\, 39202\, United States
CATEGORIES:Bible Study,Class,Discipleship,Midweek,Teaching
END:VEVENT
END:VCALENDAR