BEGIN:VCALENDAR
VERSION:2.0
PRODID:-//First Presbyterian Church - ECPv6.15.20//NONSGML v1.0//EN
CALSCALE:GREGORIAN
METHOD:PUBLISH
X-WR-CALNAME:First Presbyterian Church
X-ORIGINAL-URL:https://fpcjackson.org
X-WR-CALDESC:Events for First Presbyterian Church
REFRESH-INTERVAL;VALUE=DURATION:PT1H
X-Robots-Tag:noindex
X-PUBLISHED-TTL:PT1H
BEGIN:VTIMEZONE
TZID:America/Chicago
BEGIN:DAYLIGHT
TZOFFSETFROM:-0600
TZOFFSETTO:-0500
TZNAME:CDT
DTSTART:20250309T080000
END:DAYLIGHT
BEGIN:STANDARD
TZOFFSETFROM:-0500
TZOFFSETTO:-0600
TZNAME:CST
DTSTART:20251102T070000
END:STANDARD
BEGIN:DAYLIGHT
TZOFFSETFROM:-0600
TZOFFSETTO:-0500
TZNAME:CDT
DTSTART:20260308T080000
END:DAYLIGHT
BEGIN:STANDARD
TZOFFSETFROM:-0500
TZOFFSETTO:-0600
TZNAME:CST
DTSTART:20261101T070000
END:STANDARD
BEGIN:DAYLIGHT
TZOFFSETFROM:-0600
TZOFFSETTO:-0500
TZNAME:CDT
DTSTART:20270314T080000
END:DAYLIGHT
BEGIN:STANDARD
TZOFFSETFROM:-0500
TZOFFSETTO:-0600
TZNAME:CST
DTSTART:20271107T070000
END:STANDARD
END:VTIMEZONE
BEGIN:VEVENT
DTSTART;VALUE=DATE:20260221
DTEND;VALUE=DATE:20260302
DTSTAMP:20260424T153214
CREATED:20260102T202720Z
LAST-MODIFIED:20260204T194913Z
UID:10020005-1771632000-1772409599@fpcjackson.org
SUMMARY:Missions Conference
DESCRIPTION:Global Missions Conference 2026\nMake plans to join us for the 2026 Global Missions Conference: A House for All Nations\, February 21-March 1! This week-long celebration will highlight God’s work among the nations through worship\, teaching\, and stories from missionaries serving around the world. We’re excited to welcome Kevin DeYoung\, Jonathan (MTW)\, and many more guests.  \nFind our full schedule\, speaker bios\, guest list and more at fpcj.ms/missions-conference.
URL:https://fpcjackson.org/event/missions-conference-2/
LOCATION:FPC Jackson Campus\, 1390 North State Street\, Jackson\, MS\, 39202\, United States
CATEGORIES:Mission and Outreach
ATTACH;FMTTYPE=image/png:https://fpcjackson.org/wp-content/uploads/2026/01/FPC-Missions-Conference-2026-scaled.png
END:VEVENT
BEGIN:VEVENT
DTSTART;TZID=America/Chicago:20260301T094500
DTEND;TZID=America/Chicago:20260301T104500
DTSTAMP:20260424T153214
CREATED:20260220T184712Z
LAST-MODIFIED:20260220T184712Z
UID:10020460-1772358300-1772361900@fpcjackson.org
SUMMARY:Missions Sunday School
DESCRIPTION:Come hear from our missions guests\, Sunday\, March 1\, at 9:45 a.m. in the following locations: \n\n\nBaird Center Gym\nCollege\nLight House\nLost & Found\nYoung Adults \nMiller Hall\nCovenant\nLamplighters\nLife Learners\nPilgrims\nYoung Seekers \n\n\nLowe Hall\nCornerstone\nProvidence\nSalt & Light\nStewards\nFirst Ladies \nYouth House\n7th-12th grade \nRegular Locations\nChildren\nSpecial Friends
URL:https://fpcjackson.org/event/missions-sunday-school/
LOCATION:MS
CATEGORIES:Mission and Outreach
ATTACH;FMTTYPE=image/png:https://fpcjackson.org/wp-content/uploads/2026/02/Missions-Sunday-School-2026.png
END:VEVENT
BEGIN:VEVENT
DTSTART;TZID=America/Chicago:20260301T094500
DTEND;TZID=America/Chicago:20260301T105000
DTSTAMP:20260424T153214
CREATED:20230607T195344Z
LAST-MODIFIED:20260306T155904Z
UID:10002889-1772358300-1772362200@fpcjackson.org
SUMMARY:Special Friends Sunday School
DESCRIPTION:
URL:https://fpcjackson.org/event/special-friends-sunday-school/2026-03-01/
LOCATION:M120 (Main Building)\, 1390 North State Street\, Jackson\, MS\, 39202\, United States
CATEGORIES:Children,Sunday School
END:VEVENT
BEGIN:VEVENT
DTSTART;TZID=America/Chicago:20260301T110000
DTEND;TZID=America/Chicago:20260301T120000
DTSTAMP:20260424T153214
CREATED:20250827T193631Z
LAST-MODIFIED:20251218T220806Z
UID:10018319-1772362800-1772366400@fpcjackson.org
SUMMARY:Children's Churchtime
DESCRIPTION:Sundays offer many opportunities for our children to grow in their faith. In addition to Sunday School\, on Sunday mornings in Children’s Churchtime they learn the Bible and how to worship. Children’s Churchtime is for ages 3 & 4 and is held during the 11 a.m. service September-May in room 135 (Threes Sunday School class). Questions? Email kimberlyw@fpcjackson.org or mikaylan@fpcjackson.org.
URL:https://fpcjackson.org/event/childrens-churchtime-4/2026-03-01/
LOCATION:FPC Jackson Campus\, 1390 North State Street\, Jackson\, MS\, 39202\, United States
CATEGORIES:Children
ATTACH;FMTTYPE=image/png:https://fpcjackson.org/wp-content/uploads/2025/08/Childrens-Churchtime-scaled.png
END:VEVENT
BEGIN:VEVENT
DTSTART;TZID=America/Chicago:20260301T163000
DTEND;TZID=America/Chicago:20260301T171500
DTSTAMP:20260424T153214
CREATED:20250909T190718Z
LAST-MODIFIED:20260417T164553Z
UID:10018419-1772382600-1772385300@fpcjackson.org
SUMMARY:Student Choir
DESCRIPTION:Students in grades six-twelve are invited to join us for Student Choir! We rehearse Sunday afternoons 4:30-5:15 with supper to follow. Students will develop and practice basic musical skills\, lead worship in one Sunday night service a month\, and enjoy meaningful fellowship with other student choir members\, mentors\, and staff. For questions\, email Levi Henkel at LeviH@fpcjackson.org.
URL:https://fpcjackson.org/event/student-choir-2/2026-03-01/
LOCATION:FPC Jackson Campus\, 1390 North State Street\, Jackson\, MS\, 39202\, United States
CATEGORIES:Youth
ATTACH;FMTTYPE=image/png:https://fpcjackson.org/wp-content/uploads/2025/09/Student-Choir-2025.png
END:VEVENT
BEGIN:VEVENT
DTSTART;TZID=America/Chicago:20260301T170000
DTEND;TZID=America/Chicago:20260301T180000
DTSTAMP:20260424T153214
CREATED:20240227T195025Z
LAST-MODIFIED:20260220T185921Z
UID:10004238-1772384400-1772388000@fpcjackson.org
SUMMARY:Worship Service 5 p.m.
DESCRIPTION:
URL:https://fpcjackson.org/event/worship-service-6-p-m-2/
LOCATION:FPC Jackson Campus\, 1390 North State Street\, Jackson\, MS\, 39202\, United States
CATEGORIES:Worship
END:VEVENT
BEGIN:VEVENT
DTSTART;TZID=America/Chicago:20260301T170000
DTEND;TZID=America/Chicago:20260301T190000
DTSTAMP:20260424T153214
CREATED:20260220T184926Z
LAST-MODIFIED:20260220T185409Z
UID:10020461-1772384400-1772391600@fpcjackson.org
SUMMARY:Dinner on the Grounds
DESCRIPTION:Closing our Missions Conference this year\, we have Jonathan (MTW) as our guest minister. Evening worship will be held early at 5 p.m.\, followed by dinner on the grounds in the Baird Center Gym at 6 p.m.
URL:https://fpcjackson.org/event/dinner-on-the-grounds/
LOCATION:FPC Jackson Campus\, 1390 North State Street\, Jackson\, MS\, 39202\, United States
CATEGORIES:Mission and Outreach
ATTACH;FMTTYPE=image/png:https://fpcjackson.org/wp-content/uploads/2026/02/Dinner-on-the-Grounds-2026.png
END:VEVENT
BEGIN:VEVENT
DTSTART;TZID=America/Chicago:20260301T180000
DTEND;TZID=America/Chicago:20260301T190000
DTSTAMP:20260424T153214
CREATED:20230608T165824Z
LAST-MODIFIED:20260417T164622Z
UID:10003544-1772388000-1772391600@fpcjackson.org
SUMMARY:Catechism Crew
DESCRIPTION:Sunday Night Classes for Kids \nFirst through Third grades \nDismissed from the Evening Worship Service
URL:https://fpcjackson.org/event/catechism-crew/2026-03-01/
LOCATION:FPC Jackson Campus\, 1390 North State Street\, Jackson\, MS\, 39202\, United States
CATEGORIES:Children
ATTACH;FMTTYPE=image/png:https://fpcjackson.org/wp-content/uploads/2023/06/Catechism-Crew-Logo.png
END:VEVENT
BEGIN:VEVENT
DTSTART;TZID=America/Chicago:20260301T180000
DTEND;TZID=America/Chicago:20260301T190000
DTSTAMP:20260424T153214
CREATED:20230608T170051Z
LAST-MODIFIED:20260417T164712Z
UID:10003807-1772388000-1772391600@fpcjackson.org
SUMMARY:Covenant Kids
DESCRIPTION:Sunday Night Classes for Kids \nAge 4 and 5 \nDismissed from the Evening Worship Service
URL:https://fpcjackson.org/event/covenant-kids/2026-03-01/
LOCATION:FPC Jackson Campus\, 1390 North State Street\, Jackson\, MS\, 39202\, United States
CATEGORIES:Children
ATTACH;FMTTYPE=image/png:https://fpcjackson.org/wp-content/uploads/2023/06/Covenant-Kids-Logo.png
END:VEVENT
END:VCALENDAR