BEGIN:VCALENDAR
VERSION:2.0
PRODID:-//First Presbyterian Church - ECPv6.15.20//NONSGML v1.0//EN
CALSCALE:GREGORIAN
METHOD:PUBLISH
X-ORIGINAL-URL:https://fpcjackson.org
X-WR-CALDESC:Events for First Presbyterian Church
REFRESH-INTERVAL;VALUE=DURATION:PT1H
X-Robots-Tag:noindex
X-PUBLISHED-TTL:PT1H
BEGIN:VTIMEZONE
TZID:America/Chicago
BEGIN:DAYLIGHT
TZOFFSETFROM:-0600
TZOFFSETTO:-0500
TZNAME:CDT
DTSTART:20250309T080000
END:DAYLIGHT
BEGIN:STANDARD
TZOFFSETFROM:-0500
TZOFFSETTO:-0600
TZNAME:CST
DTSTART:20251102T070000
END:STANDARD
BEGIN:DAYLIGHT
TZOFFSETFROM:-0600
TZOFFSETTO:-0500
TZNAME:CDT
DTSTART:20260308T080000
END:DAYLIGHT
BEGIN:STANDARD
TZOFFSETFROM:-0500
TZOFFSETTO:-0600
TZNAME:CST
DTSTART:20261101T070000
END:STANDARD
BEGIN:DAYLIGHT
TZOFFSETFROM:-0600
TZOFFSETTO:-0500
TZNAME:CDT
DTSTART:20270314T080000
END:DAYLIGHT
BEGIN:STANDARD
TZOFFSETFROM:-0500
TZOFFSETTO:-0600
TZNAME:CST
DTSTART:20271107T070000
END:STANDARD
END:VTIMEZONE
BEGIN:VEVENT
DTSTART;VALUE=DATE:20260221
DTEND;VALUE=DATE:20260302
DTSTAMP:20260424T170419
CREATED:20260102T202720Z
LAST-MODIFIED:20260204T194913Z
UID:10020005-1771632000-1772409599@fpcjackson.org
SUMMARY:Missions Conference
DESCRIPTION:Global Missions Conference 2026\nMake plans to join us for the 2026 Global Missions Conference: A House for All Nations\, February 21-March 1! This week-long celebration will highlight God’s work among the nations through worship\, teaching\, and stories from missionaries serving around the world. We’re excited to welcome Kevin DeYoung\, Jonathan (MTW)\, and many more guests.  \nFind our full schedule\, speaker bios\, guest list and more at fpcj.ms/missions-conference.
URL:https://fpcjackson.org/event/missions-conference-2/
LOCATION:FPC Jackson Campus\, 1390 North State Street\, Jackson\, MS\, 39202\, United States
CATEGORIES:Mission and Outreach
ATTACH;FMTTYPE=image/png:https://fpcjackson.org/wp-content/uploads/2026/01/FPC-Missions-Conference-2026-scaled.png
END:VEVENT
BEGIN:VEVENT
DTSTART;TZID=America/Chicago:20260224T063000
DTEND;TZID=America/Chicago:20260224T073000
DTSTAMP:20260424T170419
CREATED:20260128T171438Z
LAST-MODIFIED:20260227T203317Z
UID:10020348-1771914600-1771918200@fpcjackson.org
SUMMARY:Men's Breakfast Series
DESCRIPTION:Men\, our Breakfast Series is back on Tuesdays at 6:30 a.m. This semester our topic is Hosea: God’s Casual Lovers. Hosea tells an unsettling love story of a holy husband who refuses to give up on his fickle bride. In this men’s Bible study\, led by Rupert Hunt Taylor\, we’ll face the scandal of God’s relentless love for His faithless church—and see ourselves in Israel’s wandering hearts.  \nBeginning February 10\, come wrestle with a God whose love disciplines\, pursues\, and brings rebellious sons home. Register below to let us know you’re coming and to pay for breakfast.
URL:https://fpcjackson.org/event/mens-breakfast-series-2/2026-02-24/
LOCATION:Miller Hall\, 1390 North State Street\, Jackson\, MS\, 39202\, United States
CATEGORIES:Bible Study,Men
ATTACH;FMTTYPE=image/png:https://fpcjackson.org/wp-content/uploads/2026/01/Mens-Tuesday-Breakfast-Hosea.png
END:VEVENT
BEGIN:VEVENT
DTSTART;TZID=America/Chicago:20260224T090000
DTEND;TZID=America/Chicago:20260224T110000
DTSTAMP:20260424T170419
CREATED:20250926T191029Z
LAST-MODIFIED:20251218T221526Z
UID:10018611-1771923600-1771930800@fpcjackson.org
SUMMARY:We Will Go - Grocery Delivery
DESCRIPTION:Join the FPC team at We Will Go\, praying with and giving groceries to neighbors from 9-11 a.m. Contact Rae Ann Lawrence at 601-278-4935 or lawrence.raeann@gmail.com for more information & to join us.
URL:https://fpcjackson.org/event/we-will-go-grocery-delivery/2026-02-24/
LOCATION:We Will Go\, 806 N Farish St\, Jackson\, MS\, 39202\, United States
CATEGORIES:Mission and Outreach,Outreach
ATTACH;FMTTYPE=image/png:https://fpcjackson.org/wp-content/uploads/2025/09/WWGLogoColor.png
END:VEVENT
BEGIN:VEVENT
DTSTART;TZID=America/Chicago:20260224T093000
DTEND;TZID=America/Chicago:20260224T120000
DTSTAMP:20260424T170419
CREATED:20241118T154626Z
LAST-MODIFIED:20251218T221646Z
UID:10007200-1771925400-1771934400@fpcjackson.org
SUMMARY:French Camp Quilters
DESCRIPTION:This group of ladies meets at the church on Tuesday and Thursday mornings from 9:30 a.m. – 12 p.m. (you do not have to stay for the full 3 hrs.) This ministry is open to all ladies who enjoy quilting and for those who would like to learn! Each year\, the quilts that are completed are auctioned at French Camp’s Harvest Festival in October. All the proceeds from the quilts go directly to French Camp. A nursery is provided. \nThis summer we will meet in the Parlor while the Bookstore’s A/C is being renovated. \n\n\n\nChairman: Sara Margaret Johnson
URL:https://fpcjackson.org/event/french-camp-quilters-3-2/2026-02-24/
LOCATION:Bookstore/Library\, 1390 North State Street\, Jackson\, MS\, 39202\, United States
CATEGORIES:Women
ATTACH;FMTTYPE=image/png:https://fpcjackson.org/wp-content/uploads/2024/05/French-Camp-Quilters.png
END:VEVENT
BEGIN:VEVENT
DTSTART;TZID=America/Chicago:20260224T103000
DTEND;TZID=America/Chicago:20260224T113000
DTSTAMP:20260424T170419
CREATED:20250926T191558Z
LAST-MODIFIED:20251218T221813Z
UID:10018688-1771929000-1771932600@fpcjackson.org
SUMMARY:Center for Pregnancy Choices - Gift Wrapping
DESCRIPTION:Join us at the Center for Pregnancy Choices each Tuesday 10:30-11:30 AM as we wrap diaper gifts for new moms. Contact Mary Ellison with questions or to join our team at 601-942-3507 or honeysuckle2g@gmail.com.
URL:https://fpcjackson.org/event/center-for-pregnancy-gift-wrapping/2026-02-24/
LOCATION:Center for Pregnancy Choices\, 2685 Crane Ridge Dr Suite B\, Jackson\, 39216\, United States
CATEGORIES:Mission and Outreach,Outreach
ATTACH;FMTTYPE=image/png:https://fpcjackson.org/wp-content/uploads/2025/03/CPC.png
END:VEVENT
BEGIN:VEVENT
DTSTART;TZID=America/Chicago:20260224T184500
DTEND;TZID=America/Chicago:20260224T200000
DTSTAMP:20260424T170419
CREATED:20250521T163601Z
LAST-MODIFIED:20260306T160327Z
UID:10009779-1771958700-1771963200@fpcjackson.org
SUMMARY:FPC Internationals Class
DESCRIPTION:Meets Tuesdays at 6:45-8 p.m. on the FPC Campus – Patterson Hall or Via Zoom \nFPC Team Leader: Steve Edwards 601-668-7422 – alice5176@aol.com \nWithout leaving Jackson (or your home if you’d like to Zoom) you can answer God’s calling to love our international neighbors by helping them with their English. By the power of Holy Spirit we are praying that as has happened in past years\, many will become a part of God’s family for eternity. Contact Steve to learn more\, or just show up on Tuesday evenings in Patterson Hall.
URL:https://fpcjackson.org/event/fpc-internationals-class/2026-02-24/
LOCATION:Patterson Hall\, 1390 North State Street\, Jackson\, MS\, 39202\, United States
CATEGORIES:Outreach
ATTACH;FMTTYPE=image/png:https://fpcjackson.org/wp-content/uploads/2025/05/Internationals-Class-scaled.png
END:VEVENT
END:VCALENDAR